Package: DESeq2 Version: 1.47.3 Command: /Library/Frameworks/R.framework/Resources/bin/R CMD INSTALL DESeq2 StartedAt: 2025-02-09 15:14:50 -0500 (Sun, 09 Feb 2025) EndedAt: 2025-02-09 15:15:52 -0500 (Sun, 09 Feb 2025) EllapsedTime: 62.1 seconds RetCode: 0 Status: OK