Package: DESeq2 Version: 1.47.3 Command: /home/biocbuild/bbs-3.21-bioc/R/bin/R CMD build --keep-empty-dirs --no-resave-data DESeq2 StartedAt: 2025-02-09 16:59:19 -0500 (Sun, 09 Feb 2025) EndedAt: 2025-02-09 17:01:20 -0500 (Sun, 09 Feb 2025) EllapsedTime: 120.1 seconds RetCode: 0 Status: OK PackageFile: DESeq2_1.47.3.tar.gz PackageFileSize: 2.399 MiB