Package: DESeq2 Version: 1.47.3 Command: /home/biocbuild/bbs-3.21-bioc/R/bin/R CMD INSTALL DESeq2 StartedAt: 2025-02-09 15:19:49 -0500 (Sun, 09 Feb 2025) EndedAt: 2025-02-09 15:20:36 -0500 (Sun, 09 Feb 2025) EllapsedTime: 47.4 seconds RetCode: 0 Status: OK