Package: DESeq2 Version: 1.47.3 Command: chmod a+r DESeq2 -R && E:\biocbuild\bbs-3.21-bioc\R\bin\R.exe CMD build --keep-empty-dirs --no-resave-data DESeq2 StartedAt: 2025-02-09 18:19:36 -0500 (Sun, 09 Feb 2025) EndedAt: 2025-02-09 18:21:21 -0500 (Sun, 09 Feb 2025) EllapsedTime: 104.8 seconds RetCode: 1 Status: ERROR PackageFile: None PackageFileSize: NA