Package: DESeq2 Version: 1.47.3 Command: E:\biocbuild\bbs-3.21-bioc\R\bin\R.exe CMD INSTALL DESeq2 StartedAt: 2025-02-09 16:11:04 -0500 (Sun, 09 Feb 2025) EndedAt: 2025-02-09 16:12:18 -0500 (Sun, 09 Feb 2025) EllapsedTime: 74.1 seconds RetCode: 0 Status: OK