Package: DESpace Version: 1.7.0 Command: rm -rf DESpace.buildbin-libdir && mkdir DESpace.buildbin-libdir && /Users/biocbuild/BBS/utils/build-universal.sh DESpace_1.7.0.tar.gz /Library/Frameworks/R.framework/Resources/bin/R DESpace.buildbin-libdir StartedAt: 2025-02-10 00:50:29 -0500 (Mon, 10 Feb 2025) EndedAt: 2025-02-10 00:51:10 -0500 (Mon, 10 Feb 2025) EllapsedTime: 40.6 seconds RetCode: 0 Status: OK PackageFile: DESpace_1.7.0.tgz PackageFileSize: 5.822 MiB