Package: DESpace Version: 1.7.0 Command: /Library/Frameworks/R.framework/Resources/bin/R CMD check --install=check:DESpace.install-out.txt --library=/Library/Frameworks/R.framework/Resources/library --no-vignettes --timings DESpace_1.7.0.tar.gz StartedAt: 2025-02-12 20:06:03 -0500 (Wed, 12 Feb 2025) EndedAt: 2025-02-12 20:10:24 -0500 (Wed, 12 Feb 2025) EllapsedTime: 260.2 seconds RetCode: 0 Status: OK CheckDir: DESpace.Rcheck Warnings: 0