Package: DESpace Version: 1.7.0 Command: /Library/Frameworks/R.framework/Resources/bin/R CMD INSTALL DESpace StartedAt: 2025-02-12 15:41:54 -0500 (Wed, 12 Feb 2025) EndedAt: 2025-02-12 15:42:30 -0500 (Wed, 12 Feb 2025) EllapsedTime: 36.5 seconds RetCode: 0 Status: OK