Package: DESpace Version: 1.7.0 Command: /home/biocbuild/bbs-3.21-bioc/R/bin/R CMD build --keep-empty-dirs --no-resave-data DESpace StartedAt: 2025-02-04 16:57:26 -0500 (Tue, 04 Feb 2025) EndedAt: 2025-02-04 17:04:35 -0500 (Tue, 04 Feb 2025) EllapsedTime: 428.6 seconds RetCode: 0 Status: OK PackageFile: DESpace_1.7.0.tar.gz PackageFileSize: 3.554 MiB