Package: DESpace Version: 1.7.0 Command: /home/biocbuild/bbs-3.21-bioc/R/bin/R CMD INSTALL DESpace StartedAt: 2025-02-04 15:18:54 -0500 (Tue, 04 Feb 2025) EndedAt: 2025-02-04 15:19:20 -0500 (Tue, 04 Feb 2025) EllapsedTime: 26.3 seconds RetCode: 0 Status: OK