Package: DESpace Version: 1.7.0 Command: E:\biocbuild\bbs-3.21-bioc\R\bin\R.exe CMD INSTALL DESpace StartedAt: 2025-02-09 16:25:03 -0500 (Sun, 09 Feb 2025) EndedAt: 2025-02-09 16:25:38 -0500 (Sun, 09 Feb 2025) EllapsedTime: 35.5 seconds RetCode: 0 Status: OK