Package: DEWSeq Version: 1.21.0 Command: /Library/Frameworks/R.framework/Resources/bin/R CMD check --install=check:DEWSeq.install-out.txt --library=/Library/Frameworks/R.framework/Resources/library --no-vignettes --timings DEWSeq_1.21.0.tar.gz StartedAt: 2025-02-09 18:57:04 -0500 (Sun, 09 Feb 2025) EndedAt: 2025-02-09 18:58:34 -0500 (Sun, 09 Feb 2025) EllapsedTime: 90.1 seconds RetCode: 0 Status: OK CheckDir: DEWSeq.Rcheck Warnings: 0