Package: DEWSeq Version: 1.21.0 Command: /home/biocbuild/R/R/bin/R CMD check --install=check:DEWSeq.install-out.txt --library=/home/biocbuild/R/R/site-library --no-vignettes --timings DEWSeq_1.21.0.tar.gz StartedAt: 2025-01-28 09:56:37 -0000 (Tue, 28 Jan 2025) EndedAt: 2025-01-28 10:01:59 -0000 (Tue, 28 Jan 2025) EllapsedTime: 322.3 seconds RetCode: 0 Status: OK CheckDir: DEWSeq.Rcheck Warnings: 0