Package: DEWSeq Version: 1.21.0 Command: /Library/Frameworks/R.framework/Resources/bin/R CMD build --keep-empty-dirs --no-resave-data DEWSeq StartedAt: 2025-02-12 16:30:53 -0500 (Wed, 12 Feb 2025) EndedAt: 2025-02-12 16:33:05 -0500 (Wed, 12 Feb 2025) EllapsedTime: 132.5 seconds RetCode: 0 Status: OK PackageFile: DEWSeq_1.21.0.tar.gz PackageFileSize: 3.422 MiB