Package: DEWSeq Version: 1.21.0 Command: /home/biocbuild/bbs-3.21-bioc/R/bin/R CMD build --keep-empty-dirs --no-resave-data DEWSeq StartedAt: 2025-02-09 16:59:48 -0500 (Sun, 09 Feb 2025) EndedAt: 2025-02-09 17:01:39 -0500 (Sun, 09 Feb 2025) EllapsedTime: 110.1 seconds RetCode: 0 Status: OK PackageFile: DEWSeq_1.21.0.tar.gz PackageFileSize: 3.346 MiB