Package: DEWSeq Version: 1.21.0 Command: /home/biocbuild/bbs-3.21-bioc/R/bin/R CMD check --install=check:DEWSeq.install-out.txt --library=/home/biocbuild/bbs-3.21-bioc/R/site-library --timings DEWSeq_1.21.0.tar.gz StartedAt: 2025-02-09 21:45:15 -0500 (Sun, 09 Feb 2025) EndedAt: 2025-02-09 21:50:36 -0500 (Sun, 09 Feb 2025) EllapsedTime: 320.4 seconds RetCode: 0 Status: OK CheckDir: DEWSeq.Rcheck Warnings: 0