Package: DEWSeq Version: 1.21.0 Command: chmod a+r DEWSeq -R && E:\biocbuild\bbs-3.21-bioc\R\bin\R.exe CMD build --keep-empty-dirs --no-resave-data DEWSeq StartedAt: 2025-02-12 18:23:39 -0500 (Wed, 12 Feb 2025) EndedAt: 2025-02-12 18:25:57 -0500 (Wed, 12 Feb 2025) EllapsedTime: 137.6 seconds RetCode: 0 Status: OK PackageFile: DEWSeq_1.21.0.tar.gz PackageFileSize: 3 MiB