Package: DEsingle Version: 1.27.0 Command: rm -rf DEsingle.buildbin-libdir && mkdir DEsingle.buildbin-libdir && /Users/biocbuild/BBS/utils/build-universal.sh DEsingle_1.27.0.tar.gz /Library/Frameworks/R.framework/Resources/bin/R DEsingle.buildbin-libdir StartedAt: 2025-02-09 22:12:08 -0500 (Sun, 09 Feb 2025) EndedAt: 2025-02-09 22:12:12 -0500 (Sun, 09 Feb 2025) EllapsedTime: 4.1 seconds RetCode: 0 Status: OK PackageFile: DEsingle_1.27.0.tgz PackageFileSize: 392 KiB