Package: DEsingle Version: 1.27.0 Command: /Library/Frameworks/R.framework/Resources/bin/R CMD build --keep-empty-dirs --no-resave-data DEsingle StartedAt: 2025-02-09 16:07:28 -0500 (Sun, 09 Feb 2025) EndedAt: 2025-02-09 16:07:33 -0500 (Sun, 09 Feb 2025) EllapsedTime: 5.1 seconds RetCode: 0 Status: OK PackageFile: DEsingle_1.27.0.tar.gz PackageFileSize: 380.4 KiB