Package: DEsingle Version: 1.27.0 Command: /home/biocbuild/R/R/bin/R CMD INSTALL DEsingle StartedAt: 2025-01-29 20:20:42 -0000 (Wed, 29 Jan 2025) EndedAt: 2025-01-29 20:20:53 -0000 (Wed, 29 Jan 2025) EllapsedTime: 11.0 seconds RetCode: 0 Status: OK