Package: DEsingle Version: 1.27.0 Command: /home/biocbuild/bbs-3.21-bioc/R/bin/R CMD INSTALL DEsingle StartedAt: 2025-02-09 15:07:25 -0500 (Sun, 09 Feb 2025) EndedAt: 2025-02-09 15:08:12 -0500 (Sun, 09 Feb 2025) EllapsedTime: 47.9 seconds RetCode: 0 Status: OK