Package: DEsubs Version: 1.33.0 Command: /Library/Frameworks/R.framework/Resources/bin/R CMD check --install=check:DEsubs.install-out.txt --library=/Library/Frameworks/R.framework/Resources/library --no-vignettes --timings DEsubs_1.33.0.tar.gz StartedAt: 2025-02-09 18:56:43 -0500 (Sun, 09 Feb 2025) EndedAt: 2025-02-09 18:58:01 -0500 (Sun, 09 Feb 2025) EllapsedTime: 77.8 seconds RetCode: 0 Status: WARNINGS CheckDir: DEsubs.Rcheck Warnings: 1