Package: DEsubs Version: 1.33.0 Command: /Library/Frameworks/R.framework/Resources/bin/R CMD INSTALL DEsubs StartedAt: 2025-02-09 15:18:54 -0500 (Sun, 09 Feb 2025) EndedAt: 2025-02-09 15:19:05 -0500 (Sun, 09 Feb 2025) EllapsedTime: 10.9 seconds RetCode: 0 Status: OK