Package: DEsubs Version: 1.33.0 Command: /home/biocbuild/R/R/bin/R CMD build --keep-empty-dirs --no-resave-data DEsubs StartedAt: 2025-01-28 22:26:27 -0000 (Tue, 28 Jan 2025) EndedAt: 2025-01-28 22:27:53 -0000 (Tue, 28 Jan 2025) EllapsedTime: 86.0 seconds RetCode: 0 Status: OK PackageFile: DEsubs_1.33.0.tar.gz PackageFileSize: 3.956 MiB