Package: DEsubs Version: 1.33.0 Command: /home/biocbuild/R/R/bin/R CMD INSTALL DEsubs StartedAt: 2025-01-29 20:14:50 -0000 (Wed, 29 Jan 2025) EndedAt: 2025-01-29 20:15:28 -0000 (Wed, 29 Jan 2025) EllapsedTime: 37.2 seconds RetCode: 0 Status: OK