Package: DEsubs Version: 1.33.0 Command: /Library/Frameworks/R.framework/Resources/bin/R CMD build --keep-empty-dirs --no-resave-data DEsubs StartedAt: 2025-02-09 16:32:42 -0500 (Sun, 09 Feb 2025) EndedAt: 2025-02-09 16:34:00 -0500 (Sun, 09 Feb 2025) EllapsedTime: 77.5 seconds RetCode: 0 Status: OK PackageFile: DEsubs_1.33.0.tar.gz PackageFileSize: 3.971 MiB