Package: DEsubs Version: 1.33.0 Command: chmod a+r DEsubs -R && E:\biocbuild\bbs-3.21-bioc\R\bin\R.exe CMD build --keep-empty-dirs --no-resave-data DEsubs StartedAt: 2025-02-09 18:20:23 -0500 (Sun, 09 Feb 2025) EndedAt: 2025-02-09 18:21:58 -0500 (Sun, 09 Feb 2025) EllapsedTime: 95.0 seconds RetCode: 0 Status: OK PackageFile: DEsubs_1.33.0.tar.gz PackageFileSize: 3.974 MiB