Package: DEsubs Version: 1.33.0 Command: E:\biocbuild\bbs-3.21-bioc\R\bin\R.exe CMD check --no-multiarch --install=check:DEsubs.install-out.txt --library=E:\biocbuild\bbs-3.21-bioc\R\library --no-vignettes --timings DEsubs_1.33.0.tar.gz StartedAt: 2025-02-10 00:27:24 -0500 (Mon, 10 Feb 2025) EndedAt: 2025-02-10 00:31:04 -0500 (Mon, 10 Feb 2025) EllapsedTime: 220.6 seconds RetCode: 0 Status: WARNINGS CheckDir: DEsubs.Rcheck Warnings: 1