Package: DEsubs Version: 1.33.0 Command: E:\biocbuild\bbs-3.21-bioc\R\bin\R.exe CMD INSTALL DEsubs StartedAt: 2025-02-09 16:13:58 -0500 (Sun, 09 Feb 2025) EndedAt: 2025-02-09 16:14:37 -0500 (Sun, 09 Feb 2025) EllapsedTime: 39.0 seconds RetCode: 0 Status: OK