Package: DFP Version: 1.65.0 Command: rm -rf DFP.buildbin-libdir && mkdir DFP.buildbin-libdir && /Users/biocbuild/BBS/utils/build-universal.sh DFP_1.65.0.tar.gz /Library/Frameworks/R.framework/Resources/bin/R DFP.buildbin-libdir StartedAt: 2025-02-09 22:12:13 -0500 (Sun, 09 Feb 2025) EndedAt: 2025-02-09 22:12:17 -0500 (Sun, 09 Feb 2025) EllapsedTime: 3.1 seconds RetCode: 0 Status: OK PackageFile: DFP_1.65.0.tgz PackageFileSize: 706.9 KiB