Package: DFP Version: 1.65.0 Command: /Library/Frameworks/R.framework/Resources/bin/R CMD build --keep-empty-dirs --no-resave-data DFP StartedAt: 2025-02-09 16:08:00 -0500 (Sun, 09 Feb 2025) EndedAt: 2025-02-09 16:08:05 -0500 (Sun, 09 Feb 2025) EllapsedTime: 5.0 seconds RetCode: 0 Status: OK PackageFile: DFP_1.65.0.tar.gz PackageFileSize: 497 KiB