Package: DFP Version: 1.65.0 Command: /home/biocbuild/R/R/bin/R CMD check --install=check:DFP.install-out.txt --library=/home/biocbuild/R/R/site-library --no-vignettes --timings DFP_1.65.0.tar.gz StartedAt: 2025-01-28 09:56:50 -0000 (Tue, 28 Jan 2025) EndedAt: 2025-01-28 09:57:23 -0000 (Tue, 28 Jan 2025) EllapsedTime: 33.0 seconds RetCode: 0 Status: OK CheckDir: DFP.Rcheck Warnings: 0