Package: DFP Version: 1.65.0 Command: /home/biocbuild/R/R/bin/R CMD INSTALL DFP StartedAt: 2025-01-29 19:31:14 -0000 (Wed, 29 Jan 2025) EndedAt: 2025-01-29 19:31:30 -0000 (Wed, 29 Jan 2025) EllapsedTime: 16.1 seconds RetCode: 0 Status: OK