Package: DFP Version: 1.65.0 Command: rm -rf DFP.buildbin-libdir && mkdir DFP.buildbin-libdir && /Users/biocbuild/BBS/utils/build-universal.sh DFP_1.65.0.tar.gz /Library/Frameworks/R.framework/Resources/bin/R DFP.buildbin-libdir StartedAt: 2025-02-10 00:50:33 -0500 (Mon, 10 Feb 2025) EndedAt: 2025-02-10 00:50:41 -0500 (Mon, 10 Feb 2025) EllapsedTime: 8.0 seconds RetCode: 0 Status: OK PackageFile: DFP_1.65.0.tgz PackageFileSize: 705.7 KiB