Package: DFP Version: 1.65.0 Command: /home/biocbuild/bbs-3.21-bioc/R/bin/R CMD check --install=check:DFP.install-out.txt --library=/home/biocbuild/bbs-3.21-bioc/R/site-library --timings DFP_1.65.0.tar.gz StartedAt: 2025-02-09 21:45:46 -0500 (Sun, 09 Feb 2025) EndedAt: 2025-02-09 21:46:18 -0500 (Sun, 09 Feb 2025) EllapsedTime: 32.0 seconds RetCode: 0 Status: OK CheckDir: DFP.Rcheck Warnings: 0