Package: DFP Version: 1.65.0 Command: /home/biocbuild/bbs-3.21-bioc/R/bin/R CMD INSTALL DFP StartedAt: 2025-02-09 15:12:22 -0500 (Sun, 09 Feb 2025) EndedAt: 2025-02-09 15:12:25 -0500 (Sun, 09 Feb 2025) EllapsedTime: 3.7 seconds RetCode: 0 Status: OK