Package: DFP Version: 1.65.0 Command: rm -rf DFP.buildbin-libdir && mkdir DFP.buildbin-libdir && E:\biocbuild\bbs-3.21-bioc\R\bin\R.exe CMD INSTALL --build --library=DFP.buildbin-libdir DFP_1.65.0.tar.gz StartedAt: 2025-02-04 07:51:09 -0500 (Tue, 04 Feb 2025) EndedAt: 2025-02-04 07:51:21 -0500 (Tue, 04 Feb 2025) EllapsedTime: 12.7 seconds RetCode: 0 Status: OK PackageFile: DFP_1.65.0.zip PackageFileSize: 567.7 KiB