Package: DFP Version: 1.65.0 Command: E:\biocbuild\bbs-3.21-bioc\R\bin\R.exe CMD INSTALL DFP StartedAt: 2025-02-09 15:23:08 -0500 (Sun, 09 Feb 2025) EndedAt: 2025-02-09 15:23:21 -0500 (Sun, 09 Feb 2025) EllapsedTime: 13.8 seconds RetCode: 0 Status: OK