Package: DFplyr Version: 1.1.0 Command: /Library/Frameworks/R.framework/Resources/bin/R CMD INSTALL DFplyr StartedAt: 2025-02-09 15:06:30 -0500 (Sun, 09 Feb 2025) EndedAt: 2025-02-09 15:06:52 -0500 (Sun, 09 Feb 2025) EllapsedTime: 21.4 seconds RetCode: 0 Status: OK