Package: DFplyr Version: 1.1.0 Command: /home/biocbuild/bbs-3.21-bioc/R/bin/R CMD check --install=check:DFplyr.install-out.txt --library=/home/biocbuild/bbs-3.21-bioc/R/site-library --timings DFplyr_1.1.0.tar.gz StartedAt: 2025-02-09 21:45:54 -0500 (Sun, 09 Feb 2025) EndedAt: 2025-02-09 21:46:56 -0500 (Sun, 09 Feb 2025) EllapsedTime: 61.1 seconds RetCode: 0 Status: OK CheckDir: DFplyr.Rcheck Warnings: 0