Package: DIAlignR Version: 2.15.1 Command: /Library/Frameworks/R.framework/Resources/bin/R CMD check --install=check:DIAlignR.install-out.txt --library=/Library/Frameworks/R.framework/Resources/library --no-vignettes --timings DIAlignR_2.15.1.tar.gz StartedAt: 2025-02-12 19:01:10 -0500 (Wed, 12 Feb 2025) EndedAt: 2025-02-12 19:02:14 -0500 (Wed, 12 Feb 2025) EllapsedTime: 63.8 seconds RetCode: 1 Status: ERROR CheckDir: DIAlignR.Rcheck Warnings: NA