Package: DIAlignR Version: 2.15.1 Command: /Library/Frameworks/R.framework/Resources/bin/R CMD build --keep-empty-dirs --no-resave-data DIAlignR StartedAt: 2025-02-09 16:33:24 -0500 (Sun, 09 Feb 2025) EndedAt: 2025-02-09 16:34:55 -0500 (Sun, 09 Feb 2025) EllapsedTime: 91.3 seconds RetCode: 0 Status: OK PackageFile: DIAlignR_2.15.1.tar.gz PackageFileSize: 4.271 MiB