Package: DIAlignR Version: 2.15.1 Command: /home/biocbuild/bbs-3.21-bioc/R/bin/R CMD build --keep-empty-dirs --no-resave-data DIAlignR StartedAt: 2025-02-12 16:57:41 -0500 (Wed, 12 Feb 2025) EndedAt: 2025-02-12 16:59:04 -0500 (Wed, 12 Feb 2025) EllapsedTime: 83.1 seconds RetCode: 0 Status: OK PackageFile: DIAlignR_2.15.1.tar.gz PackageFileSize: 4.256 MiB