Package: DIAlignR Version: 2.15.1 Command: /home/biocbuild/bbs-3.21-bioc/R/bin/R CMD check --install=check:DIAlignR.install-out.txt --library=/home/biocbuild/bbs-3.21-bioc/R/site-library --timings DIAlignR_2.15.1.tar.gz StartedAt: 2025-02-09 21:46:18 -0500 (Sun, 09 Feb 2025) EndedAt: 2025-02-09 21:49:22 -0500 (Sun, 09 Feb 2025) EllapsedTime: 183.2 seconds RetCode: 1 Status: ERROR CheckDir: DIAlignR.Rcheck Warnings: NA