Package: DIAlignR Version: 2.15.1 Command: /home/biocbuild/bbs-3.21-bioc/R/bin/R CMD INSTALL DIAlignR StartedAt: 2025-02-09 15:22:28 -0500 (Sun, 09 Feb 2025) EndedAt: 2025-02-09 15:23:27 -0500 (Sun, 09 Feb 2025) EllapsedTime: 59.6 seconds RetCode: 0 Status: OK