Package: DIAlignR Version: 2.15.1 Command: rm -rf DIAlignR.buildbin-libdir && mkdir DIAlignR.buildbin-libdir && E:\biocbuild\bbs-3.21-bioc\R\bin\R.exe CMD INSTALL --build --library=DIAlignR.buildbin-libdir DIAlignR_2.15.1.tar.gz StartedAt: 2025-02-10 07:37:43 -0500 (Mon, 10 Feb 2025) EndedAt: 2025-02-10 07:39:39 -0500 (Mon, 10 Feb 2025) EllapsedTime: 116.0 seconds RetCode: 0 Status: OK PackageFile: DIAlignR_2.15.1.zip PackageFileSize: 4.787 MiB