Package: DIAlignR Version: 2.15.1 Command: E:\biocbuild\bbs-3.21-bioc\R\bin\R.exe CMD INSTALL DIAlignR StartedAt: 2025-02-09 15:47:10 -0500 (Sun, 09 Feb 2025) EndedAt: 2025-02-09 15:49:26 -0500 (Sun, 09 Feb 2025) EllapsedTime: 135.5 seconds RetCode: 0 Status: OK