Package: DMCFB Version: 1.21.0 Command: /Library/Frameworks/R.framework/Resources/bin/R CMD check --install=check:DMCFB.install-out.txt --library=/Library/Frameworks/R.framework/Resources/library --no-vignettes --timings DMCFB_1.21.0.tar.gz StartedAt: 2025-02-09 18:59:46 -0500 (Sun, 09 Feb 2025) EndedAt: 2025-02-09 19:02:02 -0500 (Sun, 09 Feb 2025) EllapsedTime: 135.6 seconds RetCode: 0 Status: OK CheckDir: DMCFB.Rcheck Warnings: 0