Package: DMCFB Version: 1.21.0 Command: /home/biocbuild/R/R/bin/R CMD build --keep-empty-dirs --no-resave-data DMCFB StartedAt: 2025-01-28 22:31:12 -0000 (Tue, 28 Jan 2025) EndedAt: 2025-01-28 22:32:57 -0000 (Tue, 28 Jan 2025) EllapsedTime: 105.1 seconds RetCode: 0 Status: OK PackageFile: DMCFB_1.21.0.tar.gz PackageFileSize: 1 MiB