Package: DMCFB Version: 1.21.0 Command: /home/biocbuild/R/R/bin/R CMD check --install=check:DMCFB.install-out.txt --library=/home/biocbuild/R/R/site-library --no-vignettes --timings DMCFB_1.21.0.tar.gz StartedAt: 2025-01-28 10:02:09 -0000 (Tue, 28 Jan 2025) EndedAt: 2025-01-28 10:09:04 -0000 (Tue, 28 Jan 2025) EllapsedTime: 414.4 seconds RetCode: 0 Status: OK CheckDir: DMCFB.Rcheck Warnings: 0